BEGIN:VCALENDAR
VERSION:2.0
PRODID:-//wp-events-plugin.com//7.2.3.1//EN
TZID:America/Edmonton
X-WR-TIMEZONE:America/Edmonton
BEGIN:VEVENT
UID:2758@magrathagsociety.com
DTSTART;TZID=America/Edmonton:20260423T183000
DTEND;TZID=America/Edmonton:20260423T203000
DTSTAMP:20260422T180842Z
URL:https://magrathagsociety.com/events/colt-duce-30/
SUMMARY:Colt Duce
DESCRIPTION:
END:VEVENT
BEGIN:VTIMEZONE
TZID:America/Edmonton
X-LIC-LOCATION:America/Edmonton
BEGIN:DAYLIGHT
DTSTART:20260308T030000
TZOFFSETFROM:-0700
TZOFFSETTO:-0600
TZNAME:MDT
END:DAYLIGHT
END:VTIMEZONE
END:VCALENDAR